BEGIN:VCALENDAR
VERSION:2.0
PRODID:icalendar-ruby
CALSCALE:GREGORIAN
METHOD:PUBLISH
BEGIN:VEVENT
DTSTAMP:20260423T224650Z
UID:220-318212@crossroadsrolla.com
DTSTART:20260508T140000Z
DTEND:20260508T210000Z
CLASS:PUBLIC
CREATED:20260421T110454
DESCRIPTION:Learn how to support someone facing a mental health or substanc
 e use challenge. \nSign up for a FREE skills-based training at our locatio
 n: 708 N. Main St. To sign up\, scan the QR code on the image above or go 
 to:\nhttps://www.cognitoforms.com/CompassHealthNetwork2/RollaMHFA?qr\nThis
  training is open to anyone in the community. It will be especially helpfu
 l for people who engage with others who have mental health challenges\, es
 pecially but not limited to: workers at the warming center\, volunteers an
 d staff at The Rolla Mission\, and others who aid people with various form
 s of crisis at home\, school\, work\, or in the community.\nThe training w
 ill be provided by professionals from Compass Health. It is free of charge
  but necessitates a reservation. A minimum of 5 people are required for th
 e class to be held.\nFor more information\, please contact Patrick Wilson\
 , pastor of CrossRoads.
LAST-MODIFIED:20260421T110454
LOCATION:CrossRoads Campus
SUMMARY:Mental Health First Aid Training
URL;VALUE=URI:https://www.crossroadsrolla.com/events/mental-health-first-ai
 d-training/2026-05-08
ATTACH;FILENAME=Mental-Health-First-Aid.png;FMTTYPE=image/png:https://dq5pw
 pg1q8ru0.cloudfront.net/2026/04/21/16/04/54/ee015594-be77-42be-bc22-1277e8
 cf593d/Mental-Health-First-Aid.png
END:VEVENT
END:VCALENDAR
